BEGIN:VCALENDAR
VERSION:2.0
PRODID:-//Florida Everblades//www.floridaeverblades.com//EN
CALSCALE:GREGORIAN
BEGIN:VEVENT
UID:https://www.floridaeverblades.com/games/2026/04/25/kelly-cup-playoffs-r
 ound-1-game-2
DTSTAMP:20260421T084810Z
SUMMARY:Kelly Cup Playoffs Round 1\, Game 2
DTSTART;TZID=Canada/Eastern:20260425T190000
DTEND;TZID=Canada/Eastern:20260425T220000
DESCRIPTION:Savannah Ghost Pirates at Florida Everblades
LOCATION:Hertz Arena\, Estero\, Florida
URL;VALUE=URI:https://www.floridaeverblades.com/games/2026/04/25/kelly-cup-
 playoffs-round-1-game-2
END:VEVENT
END:VCALENDAR
